BEGIN:VCALENDAR
VERSION:2.0
PRODID:EVENTFROG//EVENT//ICAL
BEGIN:VEVENT
UID:20260423T021859Z-7452692985186130061@eventfrog.at
DTSTAMP:20260423T021859Z
DTSTART:20260425T190000Z
SUMMARY:KARAOKE NIGHT
DESCRIPTION:Ab 21 Uhr startet die Karaoke Night im The Spot Bar mit freier Musikwahl, coolen Drinks und gratis Eintritt.\n\nhttps://eventfrog.at/de/p/partys/karaoke/karaoke-night-7452692985186130061.html
LOCATION:The Spot Bar
GEO:47.379538;8.526002
URL:https://eventfrog.at/de/p/partys/karaoke/karaoke-night-7452692985186130061.html
END:VEVENT
END:VCALENDAR