BEGIN:VCALENDAR
VERSION:2.0
PRODID:EVENTFROG//EVENT//ICAL
BEGIN:VEVENT
UID:20260423T020551Z-7452686304221896572@eventfrog.at
DTSTAMP:20260423T020551Z
DTSTART:20260425T080000Z
DTEND:20260425T110000Z
SUMMARY:Self-Defense Workshop
DESCRIPTION:Marcin Pytel vermittelt im Workshop Selbstschutz mit klarer Haltung und Präsenz für mehr Sicherheit und Selbstrespekt.\n\nhttps://eventfrog.at/de/p/kurse-seminare/sonstige-kurse-seminare/self-defense-workshop-7452686304221896572.html
LOCATION:Yoga Academy Winterthur
GEO:47.496129;8.715422
URL:https://eventfrog.at/de/p/kurse-seminare/sonstige-kurse-seminare/self-defense-workshop-7452686304221896572.html
END:VEVENT
END:VCALENDAR