BEGIN:VCALENDAR
VERSION:2.0
PRODID:EVENTFROG//EVENT//ICAL
BEGIN:VEVENT
UID:20260424T072654Z-7452683453223430020@eventfrog.at
DTSTAMP:20260424T072654Z
DTSTART:20260527T160000Z
SUMMARY:Mehr kulturschaffende Frauen auf Wikipedia
DESCRIPTION:Wikipedia-Schreibwerkstatt.\n\nhttps://eventfrog.at/de/p/kurse-seminare/kunst-kultur/mehr-kulturschaffende-frauen-auf-wikipedia-7452683453223430020.html
LOCATION:Karl der Grosse - Grüne Stube
GEO:47.370552;8.545169
URL:https://eventfrog.at/de/p/kurse-seminare/kunst-kultur/mehr-kulturschaffende-frauen-auf-wikipedia-7452683453223430020.html
END:VEVENT
END:VCALENDAR