BEGIN:VCALENDAR
VERSION:2.0
PRODID:EVENTFROG//EVENT//ICAL
BEGIN:VEVENT
UID:20260424T065101Z-7452676923329616967@eventfrog.at
DTSTAMP:20260424T065101Z
DTSTART:20260501T124500Z
SUMMARY:Volkskrankheit Bluthochdruck: Prävention und Behandlung
DESCRIPTION:Warum regelmäßiges Messen so wichtig ist, welche Risiken häufig unterschätzt werden und was jeder Einzelne gegen Bluthochdruck tun kann erklärt Prof. Dr. med. Bernhard Krämer am 01. Mai.\n\nhttps://eventfrog.at/de/p/gesundheit-spiritualitaet/gesundheit-wohlbefinden/volkskrankheit-bluthochdruck-praevention-und-behandlung-7452676923329616967.html
LOCATION:Maimarkt Mannheim, Halle 27 / Stand H27-28
GEO:49.193765;11.788015
URL:https://eventfrog.at/de/p/gesundheit-spiritualitaet/gesundheit-wohlbefinden/volkskrankheit-bluthochdruck-praevention-und-behandlung-7452676923329616967.html
END:VEVENT
END:VCALENDAR