BEGIN:VCALENDAR
VERSION:2.0
PRODID:EVENTFROG//EVENT//ICAL
BEGIN:VEVENT
UID:20260424T090300Z-7452667502633428976@eventfrog.at
DTSTAMP:20260424T090300Z
DTSTART:20260719T080000Z
DTEND:20260719T160000Z
SUMMARY:NOSTALGIA – Cosplay Event Ostschweiz
DESCRIPTION:Cosplay kommt in die Ostschweiz!  NOSTALGIA am 19. Juli 2026 in der Dreamfactory: Contest, Retro Gaming, Live Music & mehr – inkl. Museum mit originalen Filmrequisiten & immersiver Fantasy-Welt.\n\nhttps://eventfrog.at/en/p/festivals/other-festivals/nostalgia-cosplay-event-ostschweiz-7452667502633428976.html
LOCATION:Dreamfactory: Erlebniswelt & Eventlokal - Degersheim SG
GEO:47.371229;9.199368
URL:https://eventfrog.at/en/p/festivals/other-festivals/nostalgia-cosplay-event-ostschweiz-7452667502633428976.html
END:VEVENT
END:VCALENDAR