BEGIN:VCALENDAR
VERSION:2.0
PRODID:EVENTFROG//EVENT//ICAL
BEGIN:VEVENT
UID:20260424T054719Z-7452661219905809648@eventfrog.at
DTSTAMP:20260424T054719Z
DTSTART:20260525T100000Z
DTEND:20260525T210000Z
SUMMARY:Pfingstmontag: Bowling zum halben Preis!
DESCRIPTION:Pfingstmontag: Bowling zum halben Preis!\n\nhttps://eventfrog.at/de/p/freizeit-ausfluege/ausflug/pfingstmontag-bowling-zum-halben-preis-7452661219905809648.html
LOCATION:Bowling & Billard Lounge Stuttgart-Möhringen
GEO:48.726937;9.134253
URL:https://eventfrog.at/de/p/freizeit-ausfluege/ausflug/pfingstmontag-bowling-zum-halben-preis-7452661219905809648.html
END:VEVENT
END:VCALENDAR