BEGIN:VCALENDAR
VERSION:2.0
PRODID:EVENTFROG//EVENT//ICAL
BEGIN:VEVENT
UID:20260424T105313Z-7452656261311510144@eventfrog.at
DTSTAMP:20260424T105313Z
DTSTART:20260510T080000Z
DTEND:20260510T215900Z
SUMMARY:Muttertag Im City Bowling
DESCRIPTION:Am Muttertag: Gratis Leihschuhe für Mütter • Bowlinglimonade nur 3,90 \n\nhttps://eventfrog.at/de/p/freizeit-ausfluege/ausflug/muttertag-im-city-bowling-7452656261311510144.html
LOCATION:City Bowling Wiesbaden
GEO:50.076394;8.251523
URL:https://eventfrog.at/de/p/freizeit-ausfluege/ausflug/muttertag-im-city-bowling-7452656261311510144.html
END:VEVENT
END:VCALENDAR