BEGIN:VCALENDAR
VERSION:2.0
PRODID:EVENTFROG//EVENT//ICAL
BEGIN:VEVENT
UID:20260424T072504Z-7452654607484879345@eventfrog.at
DTSTAMP:20260424T072504Z
DTSTART:20260502T083000Z
DTEND:20260502T183000Z
SUMMARY:heimat/home 2.0
DESCRIPTION:Literaturfestival mit dem Kollektiv zwischentext.\n\nhttps://eventfrog.at/de/p/festivals/weitere-festivals/heimat-home-2-0-7452654607484879345.html
LOCATION:Karl der Grosse
GEO:47.370552;8.545169
URL:https://eventfrog.at/de/p/festivals/weitere-festivals/heimat-home-2-0-7452654607484879345.html
END:VEVENT
END:VCALENDAR