BEGIN:VCALENDAR
VERSION:2.0
PRODID:EVENTFROG//EVENT//ICAL
BEGIN:VEVENT
UID:20260425T132051Z-7452648552637943007@eventfrog.at
DTSTAMP:20260425T132051Z
DTSTART:20260912T130000Z
DTEND:20260912T210000Z
SUMMARY:Vocal Champs 2026
DESCRIPTION:A-Cappella Contest - 6 professionelle, internationale Bands treten gegeneinander an\n\nhttps://eventfrog.at/de/p/konzerte/a-cappella-vocal/vocal-champs-2026-7452648552637943007.html
LOCATION:St. Martin Realschule
GEO:51.845458;7.818247
URL:https://eventfrog.at/de/p/konzerte/a-cappella-vocal/vocal-champs-2026-7452648552637943007.html
END:VEVENT
END:VCALENDAR