BEGIN:VCALENDAR
VERSION:2.0
PRODID:EVENTFROG//EVENT//ICAL
BEGIN:VEVENT
UID:20260424T072547Z-7452648288086455983@eventfrog.at
DTSTAMP:20260424T072547Z
DTSTART:20260521T180000Z
DTEND:20260521T193000Z
SUMMARY:Symphonic Alternative Rock
DESCRIPTION:Das United Soloists Orchestra spielt bekannte Alternative-Rock-Songs neu arrangiert in einem entspannten, sinfonischen Konzertabend.\n\nhttps://eventfrog.at/en/p/concerts/pop-rock/symphonic-alternative-rock-7452648288086455983.html
LOCATION:Französische Kirche
GEO:46.949235;7.443911
URL:https://eventfrog.at/en/p/concerts/pop-rock/symphonic-alternative-rock-7452648288086455983.html
END:VEVENT
END:VCALENDAR