BEGIN:VCALENDAR
VERSION:2.0
PRODID:EVENTFROG//EVENT//ICAL
BEGIN:VEVENT
UID:20260423T092822Z-7452644545651601145@eventfrog.at
DTSTAMP:20260423T092822Z
DTSTART:20260819T170000Z
DTEND:20260819T183000Z
SUMMARY:Die Leiden des jungen Werther zum Feinkost Sommertheater
DESCRIPTION:Das Theater im Herzen präsentiert Goethes "Die Leiden des jungen Werther" als eine zeitlose und auch humorvolle Bühnen-Version über die Liebe des jungen Werther zu Lotte.\n\nhttps://eventfrog.at/de/p/theater-buehne/theater/die-leiden-des-jungen-werther-zum-feinkost-sommertheater-7452644545651601145.html
LOCATION:Feinkost Sommertheater
GEO:51.326446;12.372892
URL:https://eventfrog.at/de/p/theater-buehne/theater/die-leiden-des-jungen-werther-zum-feinkost-sommertheater-7452644545651601145.html
END:VEVENT
END:VCALENDAR