BEGIN:VCALENDAR
VERSION:2.0
PRODID:EVENTFROG//EVENT//ICAL
BEGIN:VEVENT
UID:20260423T005449Z-7452629221858400724@eventfrog.at
DTSTAMP:20260423T005449Z
DTSTART:20260424T150000Z
DTEND:20260425T020000Z
SUMMARY:Urban Dance Night mit DJ VAN-i
DESCRIPTION:Ab 17 Uhr sorgt das Bar Team mit Urban Dance Night, Drinks und Tanz in der Bar Venezia für beste Stimmung. Mit DJ VAN-I.\n\nhttps://eventfrog.at/de/p/partys/charts-open-format/urban-dance-night-mit-dj-van-i-7452629221858400724.html
LOCATION:Bar Venezia
GEO:46.948026;7.441537
URL:https://eventfrog.at/de/p/partys/charts-open-format/urban-dance-night-mit-dj-van-i-7452629221858400724.html
END:VEVENT
END:VCALENDAR