BEGIN:VCALENDAR
VERSION:2.0
PRODID:EVENTFROG//EVENT//ICAL
BEGIN:VEVENT
UID:20260423T032744Z-7452628011545806924@eventfrog.at
DTSTAMP:20260423T032744Z
DTSTART:20260425T170000Z
DTEND:20260426T020000Z
SUMMARY:Saturday Music mit DJ Silence
DESCRIPTION:Bar Venezia in der Schweizerhof-Passage lädt ab 19 Uhr zu 70er bis 2000er Jahre Hits und später DJ Silence mit Hits, Remixen und Electronic Sound ein. Open end geöffnet.\n\nhttps://eventfrog.at/de/p/partys/charts-open-format/saturday-music-mit-dj-silence-7452628011545806924.html
LOCATION:Bar Venezia
GEO:46.948026;7.441537
URL:https://eventfrog.at/de/p/partys/charts-open-format/saturday-music-mit-dj-silence-7452628011545806924.html
END:VEVENT
END:VCALENDAR