BEGIN:VCALENDAR
VERSION:2.0
PRODID:EVENTFROG//EVENT//ICAL
BEGIN:VEVENT
UID:20260424T102331Z-7452617525152449195@eventfrog.at
DTSTAMP:20260424T102331Z
DTSTART:20260829T080000Z
DTEND:20260829T143000Z
SUMMARY:Genussreiche E-Bike-Tour durch den Jurapark Aargau
DESCRIPTION:Gerhard Girschweiler führt eine E-Bike-Tour durch den Jurapark mit kulinarischen Stopps und Infos zu Biodiversität und Nachhaltigkeit.\n\nhttps://eventfrog.at/de/p/freizeit-ausfluege/ausflug/genussreiche-e-bike-tour-durch-den-jurapark-aargau-7452617525152449195.html
LOCATION:Bahnhof Aarau
GEO:47.391366;8.051286
URL:https://eventfrog.at/de/p/freizeit-ausfluege/ausflug/genussreiche-e-bike-tour-durch-den-jurapark-aargau-7452617525152449195.html
END:VEVENT
END:VCALENDAR