BEGIN:VCALENDAR
VERSION:2.0
PRODID:EVENTFROG//EVENT//ICAL
BEGIN:VEVENT
UID:20260423T032741Z-7452612772729222688@eventfrog.at
DTSTAMP:20260423T032741Z
DTSTART:20260425T080000Z
DTEND:20260425T140000Z
SUMMARY:Tag der offenen Tür im Therapiezentrum
DESCRIPTION:Das Therapiezentrum Lindenhof öffnet von 10-16 Uhr seine Türen und bietet Gesundheits-Parcours, Vorträge und Fach-Gespräche an. Dazu gibt es Snacks, Getränke und Kinderprogramm.\n\nhttps://eventfrog.at/de/p/diverses/tag-der-offenen-tuer-im-therapiezentrum-7452612772729222688.html
LOCATION:Lindenhof Oftringen
GEO:47.316846;7.916918
URL:https://eventfrog.at/de/p/diverses/tag-der-offenen-tuer-im-therapiezentrum-7452612772729222688.html
END:VEVENT
END:VCALENDAR