BEGIN:VCALENDAR
VERSION:2.0
PRODID:EVENTFROG//EVENT//ICAL
BEGIN:VEVENT
UID:20260423T032746Z-7452611817128385342@eventfrog.at
DTSTAMP:20260423T032746Z
DTSTART:20260531T090000Z
DTEND:20260531T110000Z
SUMMARY:Workshop: Bento-Cake Slice
DESCRIPTION:Im Workshop lernst du, elegante Mini-Slice-Cakes zu dekorieren und zu gestalten – inklusive gibt es ein Glas Sekt in der Hand. \nPerfekt, um deine Backkünste auf das nächste Level zu bringen!\n\nhttps://eventfrog.at/de/p/kurse-seminare/freizeit-hobby/workshop-bento-cake-slice-7452611817128385342.html
LOCATION:Aurora Events
GEO:51.354392;12.374693
URL:https://eventfrog.at/de/p/kurse-seminare/freizeit-hobby/workshop-bento-cake-slice-7452611817128385342.html
END:VEVENT
END:VCALENDAR