BEGIN:VCALENDAR
VERSION:2.0
PRODID:EVENTFROG//EVENT//ICAL
BEGIN:VEVENT
UID:20260423T032745Z-7452607871852766538@eventfrog.at
DTSTAMP:20260423T032745Z
DTSTART:20260530T140000Z
DTEND:20260530T163000Z
SUMMARY:Überraschung - Special Experience by Aurora Events
DESCRIPTION:Ein exklusives kreatives Special-Event, dass es so noch nie gab.\nDu brauchst nur dich und Deine Kreativität :)\n\nhttps://eventfrog.at/de/p/kurse-seminare/freizeit-hobby/ueberraschung-special-experience-by-aurora-events-7452607871852766538.html
LOCATION:Aurora Events
GEO:51.354392;12.374693
URL:https://eventfrog.at/de/p/kurse-seminare/freizeit-hobby/ueberraschung-special-experience-by-aurora-events-7452607871852766538.html
END:VEVENT
END:VCALENDAR