BEGIN:VCALENDAR
VERSION:2.0
PRODID:EVENTFROG//EVENT//ICAL
BEGIN:VEVENT
UID:20260424T054531Z-7452605860520459033@eventfrog.at
DTSTAMP:20260424T054531Z
DTSTART:20260530T080000Z
DTEND:20260530T103000Z
SUMMARY:Clarity Walk
DESCRIPTION:Geführte meditative Coaching-Wanderung von Triemli zum Uetliberg zur inneren Klarheit und neuen Perspektiven, gratis und 2,5 Std.\n\nhttps://eventfrog.at/de/p/gesundheit-spiritualitaet/spiritualitaet/clarity-walk-7452605860520459033.html
LOCATION:Triemli (Bahnhof)
GEO:47.364994;8.495377
URL:https://eventfrog.at/de/p/gesundheit-spiritualitaet/spiritualitaet/clarity-walk-7452605860520459033.html
END:VEVENT
END:VCALENDAR