BEGIN:VCALENDAR
VERSION:2.0
PRODID:EVENTFROG//EVENT//ICAL
BEGIN:VEVENT
UID:20260423T005450Z-7452483117233751124@eventfrog.at
DTSTAMP:20260423T005450Z
DTSTART:20260424T190000Z
SUMMARY:KARAOKE NIGHT
DESCRIPTION:Ab 21 Uhr lädt die The Spot Bar zur kostenlosen Karaoke Night mit freier Musikwahl und entspannter Atmosphäre ein.\n\nhttps://eventfrog.at/de/p/partys/karaoke/karaoke-night-7452483117233751124.html
LOCATION:The Spot Bar
GEO:47.379538;8.526002
URL:https://eventfrog.at/de/p/partys/karaoke/karaoke-night-7452483117233751124.html
END:VEVENT
END:VCALENDAR