BEGIN:VCALENDAR
VERSION:2.0
PRODID:EVENTFROG//EVENT//ICAL
BEGIN:VEVENT
UID:20260423T034455Z-7452476456188274569@eventfrog.at
DTSTAMP:20260423T034455Z
DTSTART:20260426T150000Z
DTEND:20260426T160000Z
SUMMARY:Konzert 6: Oliver Schnyder & Loewe Quartett
DESCRIPTION:Konzert 6: Oliver Schnyder & Loewe Quartett\n\nhttps://eventfrog.at/de/p/konzerte/konzert-6-oliver-schnyder-loewe-quartett-7452476456188274569.html
LOCATION:Schloss Arbon - Landenbergsaal
GEO:47.515525;9.436826
URL:https://eventfrog.at/de/p/konzerte/konzert-6-oliver-schnyder-loewe-quartett-7452476456188274569.html
END:VEVENT
END:VCALENDAR