BEGIN:VCALENDAR
VERSION:2.0
PRODID:EVENTFROG//EVENT//ICAL
BEGIN:VEVENT
UID:20260424T104544Z-7452470095941490380@eventfrog.at
DTSTAMP:20260424T104544Z
DTSTART:20260622T173000Z
DTEND:20260622T200000Z
SUMMARY:Pubquiz im Peggy's
DESCRIPTION:Im Peggy's findet seit über 7 Jahren das legendäre Pubquiz statt. Erlebe gute Stimmung, kreative Fragen, Musik und viel Spass mit Freunden.\n\nhttps://eventfrog.at/de/p/diverses/pubquiz-im-peggy-s-7452470095941490380.html
LOCATION:Peggy O‘Neill‘s Irish Bar
GEO:47.555471;8.894701
URL:https://eventfrog.at/de/p/diverses/pubquiz-im-peggy-s-7452470095941490380.html
END:VEVENT
END:VCALENDAR