BEGIN:VCALENDAR
VERSION:2.0
PRODID:EVENTFROG//EVENT//ICAL
BEGIN:VEVENT
UID:20260423T032744Z-7452462917750893540@eventfrog.at
DTSTAMP:20260423T032744Z
DTSTART:20260425T110000Z
DTEND:20260425T120000Z
SUMMARY:Urban Street Fashion Show – Olten wird zum Laufsteg
DESCRIPTION:Die Urban Street Fashion Show startet um 13 Uhr vor Bernheim Mode und zieht mit Live-Musik als Parade durch Olten.\n\nhttps://eventfrog.at/de/p/diverses/urban-street-fashion-show-olten-wird-zum-laufsteg-7452462917750893540.html
LOCATION:Urban Street Fashion Show - Tag der Oltner Modemeile
GEO:47.349835;7.900721
URL:https://eventfrog.at/de/p/diverses/urban-street-fashion-show-olten-wird-zum-laufsteg-7452462917750893540.html
END:VEVENT
END:VCALENDAR