BEGIN:VCALENDAR
VERSION:2.0
PRODID:EVENTFROG//EVENT//ICAL
BEGIN:VEVENT
UID:20260424T064108Z-7452445810879391896@eventfrog.at
DTSTAMP:20260424T064108Z
DTSTART:20260502T180000Z
SUMMARY:Finecost Tunes w/ Remy
DESCRIPTION:Mashup Party mit DJ Remy in der Bar.\n\nhttps://eventfrog.at/de/p/partys/charts-open-format/finecost-tunes-w-remy-7452445810879391896.html
LOCATION:Bar59
GEO:47.041981;8.311045
URL:https://eventfrog.at/de/p/partys/charts-open-format/finecost-tunes-w-remy-7452445810879391896.html
END:VEVENT
END:VCALENDAR