BEGIN:VCALENDAR
VERSION:2.0
PRODID:EVENTFROG//EVENT//ICAL
BEGIN:VEVENT
UID:20260424T090228Z-7452435780725691293@eventfrog.at
DTSTAMP:20260424T090228Z
DTSTART:20260520T163000Z
DTEND:20260520T184500Z
SUMMARY:Escribir entre Sorbos ️
DESCRIPTION:Un espacio creativo y de conexión para mujeres hispanohablantes que, entre migraciones de tierra, piel y ciclos, abrazan sus historias y trasiciones en palabras y encuentran nuevas versiones de sí mis\n\nhttps://eventfrog.at/en/p/miscellaneous/escribir-entre-sorbos-7452435780725691293.html
LOCATION:Casi Casa
GEO:47.380126;8.528999
URL:https://eventfrog.at/en/p/miscellaneous/escribir-entre-sorbos-7452435780725691293.html
END:VEVENT
END:VCALENDAR