BEGIN:VCALENDAR
VERSION:2.0
PRODID:EVENTFROG//EVENT//ICAL
BEGIN:VEVENT
UID:20260424T072631Z-7452435179392467051@eventfrog.at
DTSTAMP:20260424T072631Z
DTSTART:20261107T100000Z
DTEND:20261107T160000Z
SUMMARY:Obertongesang Workshop
DESCRIPTION:Dieser Workshop ist für alle geeignet, die sich für Klang und Obertongesang interessieren. Jeder Mensch, der sprechen kann, kann diese heilsame und kraftvolle Sing-Praxis lernen.\n\nhttps://eventfrog.at/de/p/kurse-seminare/musik-tanz/obertongesang-workshop-7452435179392467051.html
LOCATION:Juravorstadt 4
GEO:47.142906;7.247526
URL:https://eventfrog.at/de/p/kurse-seminare/musik-tanz/obertongesang-workshop-7452435179392467051.html
END:VEVENT
END:VCALENDAR