BEGIN:VCALENDAR
VERSION:2.0
PRODID:EVENTFROG//EVENT//ICAL
BEGIN:VEVENT
UID:20260423T021859Z-7452418221653669986@eventfrog.at
DTSTAMP:20260423T021859Z
DTSTART:20260425T180000Z
DTEND:20260425T200000Z
SUMMARY:Asian Comedy Night at Heimat, Basel
DESCRIPTION:Laugh, connect, and celebrate at Asian Comedy Night at Heimat, Basel with talented Asian comedians. Surprises await! \nMade by Asians... For Everyone.\n\nhttps://eventfrog.at/en/p/theatre-stage/comedy-cabaret/asian-comedy-night-at-heimat-basel-7452418221653669986.html
LOCATION:HEIMAT - Bar, Club, Stage, Kitchen
GEO:47.569005;7.601645
URL:https://eventfrog.at/en/p/theatre-stage/comedy-cabaret/asian-comedy-night-at-heimat-basel-7452418221653669986.html
END:VEVENT
END:VCALENDAR