BEGIN:VCALENDAR
VERSION:2.0
PRODID:EVENTFROG//EVENT//ICAL
BEGIN:VEVENT
UID:20260423T004432Z-7452406974744938298@eventfrog.at
DTSTAMP:20260423T004432Z
DTSTART:20260424T190000Z
SUMMARY:FEMMENCO JAZZ - MÉLODIE GIMARD 4TET & KAREN LUGO
DESCRIPTION:Avec « Femmenco », un collectif 100 % féminin vous entraîne dans un voyage vibrant à la croisée du flamenco, du jazz et de la création contemporaine, où musique et danse dialoguent avec intensité et é\n\nhttps://eventfrog.at/fr/p/concerts/jazz-blues/femmenco-jazz-melodie-gimard-4tet-karen-lugo-7452406974744938298.html
LOCATION:Centre des Musiques Actuelles
GEO:46.196878;6.136636
URL:https://eventfrog.at/fr/p/concerts/jazz-blues/femmenco-jazz-melodie-gimard-4tet-karen-lugo-7452406974744938298.html
END:VEVENT
END:VCALENDAR