BEGIN:VCALENDAR
VERSION:2.0
PRODID:EVENTFROG//EVENT//ICAL
BEGIN:VEVENT
UID:20260424T083206Z-7452401878631981333@eventfrog.at
DTSTAMP:20260424T083206Z
DTSTART:20260502T180000Z
DTEND:20260502T210000Z
SUMMARY:Jahreskonzert Dorfspatzen Oberägeri
DESCRIPTION:Jahreskonzert der Dorfspatzen Oberägeri - "...erfrischend anders!"\n\nhttps://eventfrog.at/de/p/konzerte/blasmusik/jahreskonzert-dorfspatzen-oberaegeri-7452401878631981333.html
LOCATION:Maienmatt
GEO:47.135303;8.615534
URL:https://eventfrog.at/de/p/konzerte/blasmusik/jahreskonzert-dorfspatzen-oberaegeri-7452401878631981333.html
END:VEVENT
END:VCALENDAR