BEGIN:VCALENDAR
VERSION:2.0
PRODID:EVENTFROG//EVENT//ICAL
BEGIN:VEVENT
UID:20260423T033921Z-7452395805619563699@eventfrog.at
DTSTAMP:20260423T033921Z
DTSTART:20260426T070000Z
DTEND:20260426T130000Z
SUMMARY:1.Lostorfer Dorf OL
DESCRIPTION:Jung und Alt sind eingeladen, das Dorf als Abenteuerkarte mit Bewegung, Spass und Entdeckungen zu erleben.\n\nhttps://eventfrog.at/de/p/sport-fitness/wandern/1-lostorfer-dorf-ol-7452395805619563699.html
LOCATION:Schützenhaus Lostorf
GEO:47.387678;7.955498
URL:https://eventfrog.at/de/p/sport-fitness/wandern/1-lostorfer-dorf-ol-7452395805619563699.html
END:VEVENT
END:VCALENDAR