BEGIN:VCALENDAR
VERSION:2.0
PRODID:EVENTFROG//EVENT//ICAL
BEGIN:VEVENT
UID:20260424T072535Z-7452393761395450804@eventfrog.at
DTSTAMP:20260424T072535Z
DTSTART:20260517T080000Z
DTEND:20260517T100000Z
SUMMARY:Build Your Takeaway Cup - Pottery Workshop
DESCRIPTION:Workshop am 17. Mai in Zürich: Keramiktassen für Takeaway mit Anleitung, Material und Brennofen. Preis: 70 CHF.\n\nhttps://eventfrog.at/en/p/courses-seminars/art-culture/build-your-takeaway-cup-pottery-workshop-7452393761395450804.html
LOCATION:CeramicsOnWheels Studio
GEO:47.404456;8.548438
URL:https://eventfrog.at/en/p/courses-seminars/art-culture/build-your-takeaway-cup-pottery-workshop-7452393761395450804.html
END:VEVENT
END:VCALENDAR