BEGIN:VCALENDAR
VERSION:2.0
PRODID:EVENTFROG//EVENT//ICAL
BEGIN:VEVENT
UID:20260424T202834Z-7452390134228459353@eventfrog.at
DTSTAMP:20260424T202834Z
DTSTART:20260624T170000Z
SUMMARY:Musik im Park 2026
DESCRIPTION:Jeden Mittwoch vom 24.6. bis 15.7. gibt es kostenlose Konzerte am Trinkpavillon in Bad Godesberg.\n\nhttps://eventfrog.at/de/p/konzerte/pop-rock/musik-im-park-2026-7452390134228459353.html
LOCATION:Trinkpavillon an der Stadthalle, Bürger Bad Godesberg e.V.
GEO:50.680931;7.156829
URL:https://eventfrog.at/de/p/konzerte/pop-rock/musik-im-park-2026-7452390134228459353.html
END:VEVENT
END:VCALENDAR