BEGIN:VCALENDAR
VERSION:2.0
PRODID:EVENTFROG//EVENT//ICAL
BEGIN:VEVENT
UID:20260423T020549Z-7452389393900264370@eventfrog.at
DTSTAMP:20260423T020549Z
DTSTART:20260507T170000Z
DTEND:20260507T200000Z
SUMMARY:Re:Listening ZiMMT Listening Sessions
DESCRIPTION:Re:Listening ZiMMT Listening Sessions\n\nhttps://eventfrog.at/de/p/konzerte/indie-alternative/re-listening-zimmt-listening-sessions-7452389393900264370.html
LOCATION:ZiMMT
GEO:51.348029;12.420404
URL:https://eventfrog.at/de/p/konzerte/indie-alternative/re-listening-zimmt-listening-sessions-7452389393900264370.html
END:VEVENT
END:VCALENDAR