BEGIN:VCALENDAR
VERSION:2.0
PRODID:EVENTFROG//EVENT//ICAL
BEGIN:VEVENT
UID:20260422T010435Z-7452389249750418644@eventfrog.at
DTSTAMP:20260422T010435Z
DTSTART:20260424T200000Z
SUMMARY:TRANSTRONICA  2026 Transmissions
DESCRIPTION: Dieses weltweit erste Musikfestival mit trans Line-Up only verwandelt den Kampnagel-Club in einen Raum der solidarischen Versammlung und widerständigen Feier gegen die Gewalt des Vergessenmachens!\n\nhttps://eventfrog.at/de/p/festivals/weitere-festivals/transtronica-2026-transmissions-7452389249750418644.html
LOCATION:Kampnagel, Internationale Kulturfabrik
GEO:53.583863;10.020338
URL:https://eventfrog.at/de/p/festivals/weitere-festivals/transtronica-2026-transmissions-7452389249750418644.html
END:VEVENT
END:VCALENDAR