BEGIN:VCALENDAR
VERSION:2.0
PRODID:EVENTFROG//EVENT//ICAL
BEGIN:VEVENT
UID:20260423T032746Z-7452389016006036841@eventfrog.at
DTSTAMP:20260423T032746Z
DTSTART:20260611T170000Z
DTEND:20260611T200000Z
SUMMARY:Sound:Bar ZiMMT Listening Sessions
DESCRIPTION:The Sound:Bar invites you to socialize and linger.\n\nhttps://eventfrog.at/de/p/konzerte/indie-alternative/sound-bar-zimmt-listening-sessions-7452389016006036841.html
LOCATION:ZiMMT
GEO:51.348029;12.420404
URL:https://eventfrog.at/de/p/konzerte/indie-alternative/sound-bar-zimmt-listening-sessions-7452389016006036841.html
END:VEVENT
END:VCALENDAR