BEGIN:VCALENDAR
VERSION:2.0
PRODID:EVENTFROG//EVENT//ICAL
BEGIN:VEVENT
UID:20260424T101431Z-7452369182295913161@eventfrog.at
DTSTAMP:20260424T101431Z
DTSTART:20260509T183000Z
DTEND:20260510T000000Z
SUMMARY:Kantiball
DESCRIPTION:Glitter & Glam\n\nhttps://eventfrog.at/de/p/partys/studentenparty/kantiball-7452369182295913161.html
LOCATION:Kantonsschule Heerbrugg
GEO:47.415823;9.629288
URL:https://eventfrog.at/de/p/partys/studentenparty/kantiball-7452369182295913161.html
END:VEVENT
END:VCALENDAR