BEGIN:VCALENDAR
VERSION:2.0
PRODID:EVENTFROG//EVENT//ICAL
BEGIN:VEVENT
UID:20260423T151440Z-7452368541162958310@eventfrog.at
DTSTAMP:20260423T151440Z
DTSTART:20260424T150000Z
DTEND:20260424T215500Z
SUMMARY:Amboss Bier Frühlingsfest 2026
DESCRIPTION:Jeden Freitag ab 21 Uhr legen DJs sets für Afterwork und Weekendstimmung auf, Eintritt frei.\nw/ Alessio Da Silva\n\nhttps://eventfrog.at/de/p/partys/electro/amboss-bier-fruehlingsfest-2026-7452368541162958310.html
LOCATION:AMBOSS RAMPE
GEO:47.381300;8.531580
URL:https://eventfrog.at/de/p/partys/electro/amboss-bier-fruehlingsfest-2026-7452368541162958310.html
END:VEVENT
END:VCALENDAR