BEGIN:VCALENDAR
VERSION:2.0
PRODID:EVENTFROG//EVENT//ICAL
BEGIN:VEVENT
UID:20260423T034455Z-7452362246854831045@eventfrog.at
DTSTAMP:20260423T034455Z
DTSTART:20260516T190000Z
DTEND:20260517T000000Z
SUMMARY:Elevate
DESCRIPTION:ELEVATE feiert samstags in der Amboss Rampe House- und Techno-Kultur mit künstlerischem Flyer-Design aus Originalgemälden und Animationen.\n\nhttps://eventfrog.at/de/p/partys/house-techno/elevate-7452362246854831045.html
LOCATION:Amboss Rampe
GEO:47.381300;8.531580
URL:https://eventfrog.at/de/p/partys/house-techno/elevate-7452362246854831045.html
END:VEVENT
END:VCALENDAR