BEGIN:VCALENDAR
VERSION:2.0
PRODID:EVENTFROG//EVENT//ICAL
BEGIN:VEVENT
UID:20260424T072536Z-7452360340904405235@eventfrog.at
DTSTAMP:20260424T072536Z
DTSTART:20260626T170000Z
DTEND:20260626T183000Z
SUMMARY:Sommerkonzert 2026
DESCRIPTION:Das Tanztheater Inspiration-Inspiration und Marina Schüle präsentieren ein Sommerkonzert mit russicher Zigeunermusik mit preisgekrönten Tänzen und Gesang.\n\nhttps://eventfrog.at/de/p/konzerte/folk/sommerkonzert-2026-7452360340904405235.html
LOCATION:Forum 98
GEO:47.405918;8.547154
URL:https://eventfrog.at/de/p/konzerte/folk/sommerkonzert-2026-7452360340904405235.html
END:VEVENT
END:VCALENDAR