BEGIN:VCALENDAR
VERSION:2.0
PRODID:EVENTFROG//EVENT//ICAL
BEGIN:VEVENT
UID:20260424T072549Z-7452351917362050288@eventfrog.at
DTSTAMP:20260424T072549Z
DTSTART:20260530T183000Z
DTEND:20260530T210000Z
SUMMARY:Live: Jane in flames
DESCRIPTION:Jane in flames begeistert mit warmen Indie-Folk/Pop-Songs und schafft herzliche Momente voller Zartheit und Kraft auf der Bühne.\n\nhttps://eventfrog.at/de/p/konzerte/singer-songwriter/live-jane-in-flames-7452351917362050288.html
LOCATION:Raedwulf Pub
GEO:47.049473;8.302427
URL:https://eventfrog.at/de/p/konzerte/singer-songwriter/live-jane-in-flames-7452351917362050288.html
END:VEVENT
END:VCALENDAR