BEGIN:VCALENDAR
VERSION:2.0
PRODID:EVENTFROG//EVENT//ICAL
BEGIN:VEVENT
UID:20260423T032746Z-7452351375474708757@eventfrog.at
DTSTAMP:20260423T032746Z
DTSTART:20260425T210000Z
DTEND:20260426T040000Z
SUMMARY:Spring Session w/ Kander x KTK
DESCRIPTION:Spring in Zürich, but inside MÄX we’re ready for a techno session.\n\nhttps://eventfrog.at/de/p/partys/house-techno/spring-session-w-kander-x-ktk-7452351375474708757.html
LOCATION:MÄX
GEO:47.386757;8.516674
URL:https://eventfrog.at/de/p/partys/house-techno/spring-session-w-kander-x-ktk-7452351375474708757.html
END:VEVENT
END:VCALENDAR