BEGIN:VCALENDAR
VERSION:2.0
PRODID:EVENTFROG//EVENT//ICAL
BEGIN:VEVENT
UID:20260424T072553Z-7452345898745484540@eventfrog.at
DTSTAMP:20260424T072553Z
DTSTART:20260429T220000Z
DTEND:20260607T215900Z
SUMMARY:Margrit Gisclon @ open space
DESCRIPTION:Eine Ausstellung in Erinnerung an Margrit Gisclon.\n\nhttps://eventfrog.at/de/p/kunst-ausstellungen/ausstellung/margrit-gisclon-open-space-7452345898745484540.html
LOCATION:open art museum
GEO:47.419628;9.367092
URL:https://eventfrog.at/de/p/kunst-ausstellungen/ausstellung/margrit-gisclon-open-space-7452345898745484540.html
END:VEVENT
END:VCALENDAR