BEGIN:VCALENDAR
VERSION:2.0
PRODID:EVENTFROG//EVENT//ICAL
BEGIN:VEVENT
UID:20260422T042943Z-7452340051415941481@eventfrog.at
DTSTAMP:20260422T042943Z
DTSTART:20260805T100000Z
DTEND:20260805T110000Z
SUMMARY:FORUM WÜRTH ARLESHEIM X CHEZ WÜRTH
DESCRIPTION:Impulsführung von 30 Minuten durch die Ausstellung mit anschliessendem Zmittag im Chez Würth.\n\nhttps://eventfrog.at/de/p/fuehrungen-vortraege/fuehrung/forum-wuerth-arlesheim-x-chez-wuerth-7452340051415941481.html
LOCATION:Forum Würth Arlesheim
GEO:47.497009;7.607158
URL:https://eventfrog.at/de/p/fuehrungen-vortraege/fuehrung/forum-wuerth-arlesheim-x-chez-wuerth-7452340051415941481.html
END:VEVENT
END:VCALENDAR