BEGIN:VCALENDAR
VERSION:2.0
PRODID:EVENTFROG//EVENT//ICAL
BEGIN:VEVENT
UID:20260424T104706Z-7452338970392798259@eventfrog.at
DTSTAMP:20260424T104706Z
DTSTART:20260627T170000Z
SUMMARY:Mario Batkovic
DESCRIPTION:Diesen Sommer lädt der Schweizer Komponist und Musiker Mario Batkovic erstmals für einen einmaligen Abend in den idyllischen Mühligarten, olé!\n\nhttps://eventfrog.at/de/p/konzerte/electro/mario-batkovic-7452338970392798259.html
LOCATION:Mühle Hunziken
GEO:46.890789;7.541809
URL:https://eventfrog.at/de/p/konzerte/electro/mario-batkovic-7452338970392798259.html
END:VEVENT
END:VCALENDAR