BEGIN:VCALENDAR
VERSION:2.0
PRODID:EVENTFROG//EVENT//ICAL
BEGIN:VEVENT
UID:20260424T133540Z-7452337446874783821@eventfrog.at
DTSTAMP:20260424T133540Z
DTSTART:20260530T150000Z
SUMMARY:LA VALSE - Ein Klassikkonzert im KulturHaus Locktow
DESCRIPTION:Am 30.Mai 2026 läd das KulturHaus Locktow zu einem besonderen Klassikkonzert mit der Pianistin Kyra Steckeweh ein. Das Publikum erwartet ein eindrucksvolle Konzert in einzigartiger Atmosphäre.\n\nhttps://eventfrog.at/de/p/konzerte/weitere-musikrichtungen/la-valse-ein-klassikkonzert-im-kulturhaus-locktow-7452337446874783821.html
LOCATION:KulturHaus Locktow
GEO:52.128100;12.705327
URL:https://eventfrog.at/de/p/konzerte/weitere-musikrichtungen/la-valse-ein-klassikkonzert-im-kulturhaus-locktow-7452337446874783821.html
END:VEVENT
END:VCALENDAR