BEGIN:VCALENDAR
VERSION:2.0
PRODID:EVENTFROG//EVENT//ICAL
BEGIN:VEVENT
UID:20260423T020550Z-7452335212933965846@eventfrog.at
DTSTAMP:20260423T020550Z
DTSTART:20260424T210000Z
DTEND:20260425T030000Z
SUMMARY:STÄGÄFÄSCHT AFTERPARTY - FR 24.04.26 - TRISCHLI CLUB
DESCRIPTION:Die 60-Jahre-STÄGÄFÄSCHT-Afterparty beginnt um 00:30 Uhr mit Musik und Tanz im Trischli Club (18+) und Klub Klain (16+).\n\nhttps://eventfrog.at/de/p/partys/charts-open-format/staegaefaescht-afterparty-fr-24-04-26-trischli-club-7452335212933965846.html
LOCATION:Trischli Club
GEO:47.425740;9.377947
URL:https://eventfrog.at/de/p/partys/charts-open-format/staegaefaescht-afterparty-fr-24-04-26-trischli-club-7452335212933965846.html
END:VEVENT
END:VCALENDAR