BEGIN:VCALENDAR
VERSION:2.0
PRODID:EVENTFROG//EVENT//ICAL
BEGIN:VEVENT
UID:20260426T004915Z-7452333136543803650@eventfrog.at
DTSTAMP:20260426T004915Z
DTSTART:20261218T190000Z
SUMMARY:Förnbacher Theater goes Splaebärg
DESCRIPTION:Zum Dessert Mousse au Chocolat\n\nhttps://eventfrog.at/de/p/theater-buehne/theater/foernbacher-theater-goes-splaebaerg-7452333136543803650.html
LOCATION:Theater Fauteuil - Tabourettli
GEO:47.557349;7.586407
URL:https://eventfrog.at/de/p/theater-buehne/theater/foernbacher-theater-goes-splaebaerg-7452333136543803650.html
END:VEVENT
END:VCALENDAR