BEGIN:VCALENDAR
VERSION:2.0
PRODID:EVENTFROG//EVENT//ICAL
BEGIN:VEVENT
UID:20260424T072441Z-7452332806129105691@eventfrog.at
DTSTAMP:20260424T072441Z
DTSTART:20260521T180000Z
SUMMARY:William Wahl - wahlweise
DESCRIPTION:Mit «wahlweise» präsentiert William Wahl sein drittes Programm. Seine Wahlgesänge ertönen live vor deutschlandweit ausverkauften Häusern.\n\n\nhttps://eventfrog.at/de/p/theater-buehne/comedy-kabarett/william-wahl-wahlweise-7452332806129105691.html
LOCATION:Theater Fauteuil
GEO:47.557349;7.586407
URL:https://eventfrog.at/de/p/theater-buehne/comedy-kabarett/william-wahl-wahlweise-7452332806129105691.html
END:VEVENT
END:VCALENDAR