BEGIN:VCALENDAR
VERSION:2.0
PRODID:EVENTFROG//EVENT//ICAL
BEGIN:VEVENT
UID:20260423T034454Z-7452328338465521200@eventfrog.at
DTSTAMP:20260423T034454Z
DTSTART:20260425T210000Z
DTEND:20260426T020000Z
SUMMARY:BUENOS DIAS
DESCRIPTION:Am 25. April ab 23 Uhr sorgt DJ EDI JO mit brasilianischem Funk, House und Latino im Miami Latin Club St. Gallen für Latin Beats.\n\nhttps://eventfrog.at/de/p/partys/latin-brasil/buenos-dias-7452328338465521200.html
LOCATION:Miami Club
GEO:47.426585;9.377054
URL:https://eventfrog.at/de/p/partys/latin-brasil/buenos-dias-7452328338465521200.html
END:VEVENT
END:VCALENDAR