BEGIN:VCALENDAR
VERSION:2.0
PRODID:EVENTFROG//EVENT//ICAL
BEGIN:VEVENT
UID:20260424T072636Z-7452315991525063148@eventfrog.at
DTSTAMP:20260424T072636Z
DTSTART:20260506T160000Z
DTEND:20260506T180000Z
SUMMARY:Create Your Sushi Set - Pottery Workshop
DESCRIPTION:Keramik-Workshop am 6. Mai in Zürich: Teilnehmende formen und bemalen eigene Sushi-Teller, keine Vorkenntnisse nötig.\n\nhttps://eventfrog.at/en/p/courses-seminars/art-culture/create-your-sushi-set-pottery-workshop-7452315991525063148.html
LOCATION:CeramicsOnWheels Studio
GEO:47.404456;8.548438
URL:https://eventfrog.at/en/p/courses-seminars/art-culture/create-your-sushi-set-pottery-workshop-7452315991525063148.html
END:VEVENT
END:VCALENDAR