BEGIN:VCALENDAR
VERSION:2.0
PRODID:EVENTFROG//EVENT//ICAL
BEGIN:VEVENT
UID:20260421T174138Z-7452312948381353933@eventfrog.at
DTSTAMP:20260421T174138Z
DTSTART:20260427T093000Z
DTEND:20260427T103000Z
SUMMARY:Mindset Twins
DESCRIPTION:Einsatz KI-basierter Personas und menschlicher KI-Zwillinge\n\nhttps://eventfrog.at/de/p/wissenschaft-und-technik/mindset-twins-7452312948381353933.html
LOCATION:DigitalDialog
URL:https://eventfrog.at/de/p/wissenschaft-und-technik/mindset-twins-7452312948381353933.html
END:VEVENT
END:VCALENDAR